View In:
ArcGIS JavaScript
ArcGIS Online Map Viewer
ArcGIS Earth
Service Description: facilities/NorthAcademicDistrictDroneImagery2024
Name: facilities/NorthAcademicDistrictDroneImagery2024
Description:
Single Fused Map Cache: false
Extent:
XMin: -8953252.1614978
YMin: 4470984.239058054
XMax: -8952665.471298208
YMax: 4471573.450356232
Spatial Reference: 102100
(3857)
LatestVCSWkid(0)
Initial Extent:
XMin: -8953252.1614978
YMin: 4470984.239058054
XMax: -8952665.471298208
YMax: 4471573.450356232
Spatial Reference: 102100
(3857)
LatestVCSWkid(0)
Full Extent:
XMin: -8953252.1614978
YMin: 4470984.239058054
XMax: -8952665.471298208
YMax: 4471573.450356232
Spatial Reference: 102100
(3857)
LatestVCSWkid(0)
Pixel Size X: 0.03819846341501526
Pixel Size Y: 0.038198463415102114
Band Count: 3
Pixel Type: U8
RasterFunction Infos: {"rasterFunctionInfos": [{
"name": "None",
"description": "",
"help": ""
}]}
Mensuration Capabilities: Basic
Inspection Capabilities:
Has Histograms: true
Has Colormap: false
Has Multi Dimensions : false
Rendering Rule:
Min Scale: 5.91657527591555E8
Max Scale: 70.5310735
Min LOD: 0
Max LOD: 23
Resampling: false
Copyright Text:
Service Data Type: esriImageServiceDataTypeRGB
Min Values: 1, 1, 1
Max Values: 254, 254, 254
Mean Values: 105.65846191661, 112.6944045539, 110.03329198842
Standard Deviation Values: 46.894418705178, 44.095993852097, 50.675628191124
Object ID Field:
Fields:
None
Default Mosaic Method: Center
Allowed Mosaic Methods:
SortField:
SortValue: null
Mosaic Operator: First
Default Compression Quality: 75
Default Resampling Method: Bicubic
Max Record Count: null
Max Image Height: 4100
Max Image Width: 15000
Max Download Image Count: null
Max Mosaic Image Count: null
Allow Raster Function: true
Allow Copy: true
Allow Analysis: true
Allow Compute TiePoints: false
Supports Statistics: false
Supports Advanced Queries: false
Use StandardizedQueries: true
Raster Type Infos:
Name: Raster Dataset
Description: Supports all ArcGIS Raster Datasets
Help:
Has Raster Attribute Table: false
Edit Fields Info: null
Ownership Based AccessControl For Rasters: null
Child Resources:
Info
Histograms
Statistics
Key Properties
Legend
Raster Function Infos
Supported Operations:
Export Image
Identify
Measure
Compute Histograms
Compute Statistics Histograms
Get Samples
Compute Class Statistics
Query Boundary
Compute Pixel Location
Compute Angles
Validate
Project